BEGIN:VCALENDAR
VERSION:2.0
PRODID:-//Grand County History - ECPv6.15.18//NONSGML v1.0//EN
CALSCALE:GREGORIAN
METHOD:PUBLISH
X-WR-CALNAME:Grand County History
X-ORIGINAL-URL:https://grandcountyhistory.org
X-WR-CALDESC:Events for Grand County History
REFRESH-INTERVAL;VALUE=DURATION:PT1H
X-Robots-Tag:noindex
X-PUBLISHED-TTL:PT1H
BEGIN:VTIMEZONE
TZID:America/Denver
BEGIN:DAYLIGHT
TZOFFSETFROM:-0700
TZOFFSETTO:-0600
TZNAME:MDT
DTSTART:20250309T090000
END:DAYLIGHT
BEGIN:STANDARD
TZOFFSETFROM:-0600
TZOFFSETTO:-0700
TZNAME:MST
DTSTART:20251102T080000
END:STANDARD
BEGIN:DAYLIGHT
TZOFFSETFROM:-0700
TZOFFSETTO:-0600
TZNAME:MDT
DTSTART:20260308T090000
END:DAYLIGHT
BEGIN:STANDARD
TZOFFSETFROM:-0600
TZOFFSETTO:-0700
TZNAME:MST
DTSTART:20261101T080000
END:STANDARD
BEGIN:DAYLIGHT
TZOFFSETFROM:-0700
TZOFFSETTO:-0600
TZNAME:MDT
DTSTART:20270314T090000
END:DAYLIGHT
BEGIN:STANDARD
TZOFFSETFROM:-0600
TZOFFSETTO:-0700
TZNAME:MST
DTSTART:20271107T080000
END:STANDARD
END:VTIMEZONE
BEGIN:VEVENT
DTSTART;TZID=America/Denver:20260523T100000
DTEND;TZID=America/Denver:20260523T110000
DTSTAMP:20260422T023610
CREATED:20260416T192554Z
LAST-MODIFIED:20260416T192556Z
UID:3339-1779530400-1779534000@grandcountyhistory.org
SUMMARY:Book Study: Bloody Grand
DESCRIPTION:Join us in May for Book Study! This month we are reading “Bloody Grand” by local author Katie Gailey. Step into the rugged world of 1880s Grand Lake to follow Annie Mitchell as she navigates betrayal\, danger\, and survival in a small mountain town.\n\nMay 23rd10amJuniper Library\, Grand Lake or on Google Meet:meet.google.com/jnq-radc-qhv
URL:https://grandcountyhistory.org/event-detail/book-study-bloody-grand/
LOCATION:Juniper Library\, 316 Garfield St.\, Grand Lake\, CO\, 80447
CATEGORIES:Book Study
ATTACH;FMTTYPE=image/png:https://grandcountyhistory.org/wp-content/uploads/2026/04/GCHA-Book-Study1920-x-1080-px.png
ORGANIZER;CN="GCHA":MAILTO:samantha@grandcountyhistory.org
END:VEVENT
END:VCALENDAR