BEGIN:VCALENDAR
VERSION:2.0
PRODID:-//Grand County History - ECPv6.15.18//NONSGML v1.0//EN
CALSCALE:GREGORIAN
METHOD:PUBLISH
X-ORIGINAL-URL:https://grandcountyhistory.org
X-WR-CALDESC:Events for Grand County History
REFRESH-INTERVAL;VALUE=DURATION:PT1H
X-Robots-Tag:noindex
X-PUBLISHED-TTL:PT1H
BEGIN:VTIMEZONE
TZID:America/Denver
BEGIN:DAYLIGHT
TZOFFSETFROM:-0700
TZOFFSETTO:-0600
TZNAME:MDT
DTSTART:20240310T090000
END:DAYLIGHT
BEGIN:STANDARD
TZOFFSETFROM:-0600
TZOFFSETTO:-0700
TZNAME:MST
DTSTART:20241103T080000
END:STANDARD
BEGIN:DAYLIGHT
TZOFFSETFROM:-0700
TZOFFSETTO:-0600
TZNAME:MDT
DTSTART:20250309T090000
END:DAYLIGHT
BEGIN:STANDARD
TZOFFSETFROM:-0600
TZOFFSETTO:-0700
TZNAME:MST
DTSTART:20251102T080000
END:STANDARD
BEGIN:DAYLIGHT
TZOFFSETFROM:-0700
TZOFFSETTO:-0600
TZNAME:MDT
DTSTART:20260308T090000
END:DAYLIGHT
BEGIN:STANDARD
TZOFFSETFROM:-0600
TZOFFSETTO:-0700
TZNAME:MST
DTSTART:20261101T080000
END:STANDARD
END:VTIMEZONE
BEGIN:VEVENT
DTSTART;TZID=America/Denver:20251115T140000
DTEND;TZID=America/Denver:20251115T160000
DTSTAMP:20260421T072001
CREATED:20251013T223356Z
LAST-MODIFIED:20251013T223722Z
UID:3197-1763215200-1763222400@grandcountyhistory.org
SUMMARY:Historic Crafting: Shellwork
DESCRIPTION:Come learn the Victorian craft of shell work! From decorated boxes to mosaic designs you will get to make your own masterpiece using seashells. All supplies are included \nCost is $10 for Members or $15 for Non-members\nRegistration & payment is required! \nRegister at https://gchaonline.square.site/ or at the museum! \nAll registration fees are non-refundable as they are used to purchase supplies
URL:https://grandcountyhistory.org/event-detail/historic-crafting-shellwork/
LOCATION:Cozens Ranch Museum\, 77849 US Hwy 40\, Fraser\, CO\, 80442\, United States
CATEGORIES:Art,Historic Crafting
ATTACH;FMTTYPE=image/jpeg:https://grandcountyhistory.org/wp-content/uploads/2025/10/Historic-Crafting-Shellwork-Instagram-Post-45-1-1-crop.jpg
END:VEVENT
BEGIN:VEVENT
DTSTART;TZID=America/Denver:20251129T170000
DTEND;TZID=America/Denver:20251129T190000
DTSTAMP:20260421T072001
CREATED:20251106T223545Z
LAST-MODIFIED:20251106T223955Z
UID:3226-1764435600-1764442800@grandcountyhistory.org
SUMMARY:Museum After Dark: GCHA Member Only Historic Charcuterie Boards
DESCRIPTION:We invite all our current GCHA Members for an evening of making historic charcuterie boards using recipes from the 19th and 20th centuries!All supplies are included!\n\nSaturday November 29th5pmPioneer Village Museum\n\nRSVP is REQUIRED so that we can ensure enough supplies are available! \nRSVP to samantha@grandcountyhistory.org or call 970-725-6009\nAll memberships will be confirmed as current and active prior to confirmation of attendance
URL:https://grandcountyhistory.org/event-detail/museum-after-dark-gcha-member-only-historic-charcuterie-boards/
LOCATION:Pioneer Village Museum\, 110 E Byers Ave\, Hot Sulphur Springs\, CO\, 80451\, United States
CATEGORIES:Historic Crafting,Member Only Event
ATTACH;FMTTYPE=image/png:https://grandcountyhistory.org/wp-content/uploads/2025/11/GCHA-Members-ONly-1920-x-1080-px-1.png
ORGANIZER;CN="GCHA":MAILTO:samantha@grandcountyhistory.org
END:VEVENT
END:VCALENDAR